BEGIN:VCALENDAR
VERSION:2.0
PRODID:-//Mama Lingua Music - ECPv6.15.17.1//NONSGML v1.0//EN
CALSCALE:GREGORIAN
METHOD:PUBLISH
X-ORIGINAL-URL:https://mamalinguamusic.com
X-WR-CALDESC:Events for Mama Lingua Music
REFRESH-INTERVAL;VALUE=DURATION:PT1H
X-Robots-Tag:noindex
X-PUBLISHED-TTL:PT1H
BEGIN:VTIMEZONE
TZID:America/Denver
BEGIN:DAYLIGHT
TZOFFSETFROM:-0700
TZOFFSETTO:-0600
TZNAME:MDT
DTSTART:20230312T090000
END:DAYLIGHT
BEGIN:STANDARD
TZOFFSETFROM:-0600
TZOFFSETTO:-0700
TZNAME:MST
DTSTART:20231105T080000
END:STANDARD
BEGIN:DAYLIGHT
TZOFFSETFROM:-0700
TZOFFSETTO:-0600
TZNAME:MDT
DTSTART:20240310T090000
END:DAYLIGHT
BEGIN:STANDARD
TZOFFSETFROM:-0600
TZOFFSETTO:-0700
TZNAME:MST
DTSTART:20241103T080000
END:STANDARD
BEGIN:DAYLIGHT
TZOFFSETFROM:-0700
TZOFFSETTO:-0600
TZNAME:MDT
DTSTART:20250309T090000
END:DAYLIGHT
BEGIN:STANDARD
TZOFFSETFROM:-0600
TZOFFSETTO:-0700
TZNAME:MST
DTSTART:20251102T080000
END:STANDARD
END:VTIMEZONE
BEGIN:VEVENT
DTSTART;TZID=America/Denver:20240330T190000
DTEND;TZID=America/Denver:20240330T210000
DTSTAMP:20260420T150247
CREATED:20240103T221906Z
LAST-MODIFIED:20240103T221906Z
UID:779-1711825200-1711832400@mamalinguamusic.com
SUMMARY:Mama Lingua at Blue Corn in Montrose\, CO
DESCRIPTION:7pm\, $10 in advance\, $15 at the door: tickets \nWith beautiful original folk and world tunes\, the band brings life to the stage through the power of sensuous female vocals\, guitar\, violin\, cello\, and percussion. \n 
URL:https://mamalinguamusic.com/event/mama-lingua-at-blue-corn-in-montrose-co/
LOCATION:Blue Corn\, 1842 South Townsend\, Montrose\, CO\, United States
ATTACH;FMTTYPE=image/jpeg:https://mamalinguamusic.com/wp-content/uploads/2024/01/Mama-Lingua-11x17-1.jpg
END:VEVENT
END:VCALENDAR