BEGIN:VCALENDAR
VERSION:2.0
PRODID:-//Mama Lingua Music - ECPv6.15.17.1//NONSGML v1.0//EN
CALSCALE:GREGORIAN
METHOD:PUBLISH
X-WR-CALNAME:Mama Lingua Music
X-ORIGINAL-URL:https://mamalinguamusic.com
X-WR-CALDESC:Events for Mama Lingua Music
REFRESH-INTERVAL;VALUE=DURATION:PT1H
X-Robots-Tag:noindex
X-PUBLISHED-TTL:PT1H
BEGIN:VTIMEZONE
TZID:America/Denver
BEGIN:DAYLIGHT
TZOFFSETFROM:-0700
TZOFFSETTO:-0600
TZNAME:MDT
DTSTART:20230312T090000
END:DAYLIGHT
BEGIN:STANDARD
TZOFFSETFROM:-0600
TZOFFSETTO:-0700
TZNAME:MST
DTSTART:20231105T080000
END:STANDARD
BEGIN:DAYLIGHT
TZOFFSETFROM:-0700
TZOFFSETTO:-0600
TZNAME:MDT
DTSTART:20240310T090000
END:DAYLIGHT
BEGIN:STANDARD
TZOFFSETFROM:-0600
TZOFFSETTO:-0700
TZNAME:MST
DTSTART:20241103T080000
END:STANDARD
BEGIN:DAYLIGHT
TZOFFSETFROM:-0700
TZOFFSETTO:-0600
TZNAME:MDT
DTSTART:20250309T090000
END:DAYLIGHT
BEGIN:STANDARD
TZOFFSETFROM:-0600
TZOFFSETTO:-0700
TZNAME:MST
DTSTART:20251102T080000
END:STANDARD
END:VTIMEZONE
BEGIN:VEVENT
DTSTART;TZID=America/Denver:20240928T163000
DTEND;TZID=America/Denver:20240928T173000
DTSTAMP:20260419T145054
CREATED:20240820T182114Z
LAST-MODIFIED:20240820T182114Z
UID:845-1727541000-1727544600@mamalinguamusic.com
SUMMARY:Mama Lingua at Mountain Harvest Festival\, Paonia
DESCRIPTION:Opening for FRÄNDER and Cha Wa on the big stage\, this year it will be in the football field next to Town Park.
URL:https://mamalinguamusic.com/event/mama-lingua-at-mountain-harvest-festival-paonia/
ATTACH;FMTTYPE=image/jpeg:https://mamalinguamusic.com/wp-content/uploads/2024/08/981A4526-B39F-4502-990D-126E777ADDB9.jpg
END:VEVENT
END:VCALENDAR