BEGIN:VCALENDAR
VERSION:2.0
PRODID:-//Mama Lingua Music - ECPv6.15.17.1//NONSGML v1.0//EN
CALSCALE:GREGORIAN
METHOD:PUBLISH
X-ORIGINAL-URL:https://mamalinguamusic.com
X-WR-CALDESC:Events for Mama Lingua Music
REFRESH-INTERVAL;VALUE=DURATION:PT1H
X-Robots-Tag:noindex
X-PUBLISHED-TTL:PT1H
BEGIN:VTIMEZONE
TZID:America/Denver
BEGIN:DAYLIGHT
TZOFFSETFROM:-0700
TZOFFSETTO:-0600
TZNAME:MDT
DTSTART:20230312T090000
END:DAYLIGHT
BEGIN:STANDARD
TZOFFSETFROM:-0600
TZOFFSETTO:-0700
TZNAME:MST
DTSTART:20231105T080000
END:STANDARD
BEGIN:DAYLIGHT
TZOFFSETFROM:-0700
TZOFFSETTO:-0600
TZNAME:MDT
DTSTART:20240310T090000
END:DAYLIGHT
BEGIN:STANDARD
TZOFFSETFROM:-0600
TZOFFSETTO:-0700
TZNAME:MST
DTSTART:20241103T080000
END:STANDARD
BEGIN:DAYLIGHT
TZOFFSETFROM:-0700
TZOFFSETTO:-0600
TZNAME:MDT
DTSTART:20250309T090000
END:DAYLIGHT
BEGIN:STANDARD
TZOFFSETFROM:-0600
TZOFFSETTO:-0700
TZNAME:MST
DTSTART:20251102T080000
END:STANDARD
BEGIN:DAYLIGHT
TZOFFSETFROM:-0700
TZOFFSETTO:-0600
TZNAME:MDT
DTSTART:20260308T090000
END:DAYLIGHT
BEGIN:STANDARD
TZOFFSETFROM:-0600
TZOFFSETTO:-0700
TZNAME:MST
DTSTART:20261101T080000
END:STANDARD
BEGIN:DAYLIGHT
TZOFFSETFROM:-0700
TZOFFSETTO:-0600
TZNAME:MDT
DTSTART:20270314T090000
END:DAYLIGHT
BEGIN:STANDARD
TZOFFSETFROM:-0600
TZOFFSETTO:-0700
TZNAME:MST
DTSTART:20271107T080000
END:STANDARD
END:VTIMEZONE
BEGIN:VEVENT
DTSTART;TZID=America/Denver:20240526T140000
DTEND;TZID=America/Denver:20240526T153000
DTSTAMP:20260420T232211
CREATED:20240402T153642Z
LAST-MODIFIED:20240402T153642Z
UID:808-1716732000-1716737400@mamalinguamusic.com
SUMMARY:Mama Lingua at Folk 'N Roots Rendezvous
DESCRIPTION:Three days of free live music at Big B’s over Memorial Day weekend. \n 
URL:https://mamalinguamusic.com/event/mama-lingua-at-folk-n-roots-rendezvous/
LOCATION:Big B’s\, 39126 HWY 133\, Hotchkiss\, CO\, United States
ATTACH;FMTTYPE=image/jpeg:https://mamalinguamusic.com/wp-content/uploads/2024/04/mama-lingua-big-bs.jpg
END:VEVENT
BEGIN:VEVENT
DTSTART;TZID=America/Denver:20240601T180000
DTEND;TZID=America/Denver:20240601T190000
DTSTAMP:20260420T232211
CREATED:20240402T152822Z
LAST-MODIFIED:20240402T152822Z
UID:805-1717264800-1717268400@mamalinguamusic.com
SUMMARY:Mama Lingua at Riverfest
DESCRIPTION:As part of The Western Slope Conservation Center’s largest fundraising event. It is Rain or Shine\, unless it gets truly ridiculous. \nAudience members park at Paonia K-8 school. Please walk\, bike\, or carpool if you can.
URL:https://mamalinguamusic.com/event/mama-lingua-at-riverfest/
LOCATION:Paonia River Park
ATTACH;FMTTYPE=image/jpeg:https://mamalinguamusic.com/wp-content/uploads/2023/11/ml-preshow-ouray-Copy.jpg
END:VEVENT
BEGIN:VEVENT
DTSTART;TZID=America/Denver:20240614T180000
DTEND;TZID=America/Denver:20240614T193000
DTSTAMP:20260420T232211
CREATED:20231127T175525Z
LAST-MODIFIED:20231127T175525Z
UID:737-1718388000-1718393400@mamalinguamusic.com
SUMMARY:Mama Lingua at the Grand Mesa Arts & Events Center in Cedaredge\, CO
DESCRIPTION:more information coming soon
URL:https://mamalinguamusic.com/event/mama-lingua-at-the-grand-mesa-arts-events-center-in-cedaredge-co/
LOCATION:Grand Mesa Arts and Events Center\, 195 W. Main Street\, Cedaredge\, CO\, United States
ATTACH;FMTTYPE=image/jpeg:https://mamalinguamusic.com/wp-content/uploads/2023/11/crestone-ml.jpg
END:VEVENT
BEGIN:VEVENT
DTSTART;TZID=America/Denver:20240702T173000
DTEND;TZID=America/Denver:20240702T190000
DTSTAMP:20260420T232211
CREATED:20240603T162954Z
LAST-MODIFIED:20240629T184115Z
UID:825-1719941400-1719946800@mamalinguamusic.com
SUMMARY:Mama Lingua at Center for the Arts in Crested Butte
DESCRIPTION:As part of the Summer Classics in the Courtyard Series. \nmore info: https://crestedbuttearts.org/event/summer-classics-in-the-courtyard-mama-lingua/ \nBy popular demand\, Mama Lingua returns to the Butte! Hailed for their synergistic\, emotionally intelligent performances\, Mama Lingua weaves original tunes with traditional folk and world music to create a warm\, authentic sound that brings us out of our heads and into our hearts. \nFeldberg East Courtyard\n606 Sixth Street\, Crested Butte \n 
URL:https://mamalinguamusic.com/event/mama-lingua-at-center-for-the-arts-in-crested-butte/
ATTACH;FMTTYPE=image/jpeg:https://mamalinguamusic.com/wp-content/uploads/2023/11/ml-lavender-Copy.jpg
END:VEVENT
BEGIN:VEVENT
DTSTART;TZID=America/Denver:20240721T173000
DTEND;TZID=America/Denver:20240721T200000
DTSTAMP:20260420T232211
CREATED:20240402T163933Z
LAST-MODIFIED:20240603T165017Z
UID:814-1721583000-1721592000@mamalinguamusic.com
SUMMARY:Mama Lingua at Stanton Lavender Farm in Paonia\, CO
DESCRIPTION:5:30: Opener\, Eleanor Hibbard\n6PM: Mama Lingua\n\n*Please consider carpooling to this limited capacity concert*\n\nTICKETS
URL:https://mamalinguamusic.com/event/mama-lingua-at-stanton-lavender-farm/
LOCATION:Stanton Lavender Farm\, 41586 REDS ROAD\, Paonia\, CO\, United States
ATTACH;FMTTYPE=application/pdf:https://mamalinguamusic.com/wp-content/uploads/2024/04/ml-lavendar-July-21.pdf
END:VEVENT
BEGIN:VEVENT
DTSTART;TZID=America/Denver:20240810T123000
DTEND;TZID=America/Denver:20240810T133000
DTSTAMP:20260420T232211
CREATED:20240603T164837Z
LAST-MODIFIED:20240603T164837Z
UID:828-1723293000-1723296600@mamalinguamusic.com
SUMMARY:Mama Lingua at MarbleFest
DESCRIPTION:As part of a small town music and crafts celebration. \nhttps://www.instagram.com/marblefestco/
URL:https://mamalinguamusic.com/event/mama-lingua-at-marblefest/
ATTACH;FMTTYPE=image/jpeg:https://mamalinguamusic.com/wp-content/uploads/2023/11/ml-preshow-ouray-Copy.jpg
END:VEVENT
BEGIN:VEVENT
DTSTART;TZID=America/Denver:20240813T170000
DTEND;TZID=America/Denver:20240813T200000
DTSTAMP:20260420T232211
CREATED:20240808T133341Z
LAST-MODIFIED:20240808T133341Z
UID:839-1723568400-1723579200@mamalinguamusic.com
SUMMARY:Mama Lingua at Arbol Market in Paonia
DESCRIPTION:The market runs 5 – 8pm \nJoin us under the trees for some sweet harmonies. \nPaonia Town Park \nArbol Farmers Market
URL:https://mamalinguamusic.com/event/mama-lingua-at-arbol-market-in-paonia/
ATTACH;FMTTYPE=image/jpeg:https://mamalinguamusic.com/wp-content/uploads/2024/04/Mama-Lingua.jpg
END:VEVENT
BEGIN:VEVENT
DTSTART;TZID=America/Denver:20240824T140000
DTEND;TZID=America/Denver:20240824T160000
DTSTAMP:20260420T232211
CREATED:20240808T133523Z
LAST-MODIFIED:20240808T133523Z
UID:841-1724508000-1724515200@mamalinguamusic.com
SUMMARY:Private Wedding
DESCRIPTION:
URL:https://mamalinguamusic.com/event/private-wedding/
ATTACH;FMTTYPE=image/jpeg:https://mamalinguamusic.com/wp-content/uploads/2023/11/ml-lavender-Copy.jpg
END:VEVENT
BEGIN:VEVENT
DTSTART;TZID=America/Denver:20240915T110000
DTEND;TZID=America/Denver:20240915T130000
DTSTAMP:20260420T232211
CREATED:20240808T133634Z
LAST-MODIFIED:20240915T024124Z
UID:843-1726398000-1726405200@mamalinguamusic.com
SUMMARY:Mama Lingua at Church Kickoff BBQ
DESCRIPTION:
URL:https://mamalinguamusic.com/event/private-party/
ATTACH;FMTTYPE=image/jpeg:https://mamalinguamusic.com/wp-content/uploads/2024/06/ml-cedar.jpg
END:VEVENT
BEGIN:VEVENT
DTSTART;TZID=America/Denver:20240928T163000
DTEND;TZID=America/Denver:20240928T173000
DTSTAMP:20260420T232211
CREATED:20240820T182114Z
LAST-MODIFIED:20240820T182114Z
UID:845-1727541000-1727544600@mamalinguamusic.com
SUMMARY:Mama Lingua at Mountain Harvest Festival\, Paonia
DESCRIPTION:Opening for FRÄNDER and Cha Wa on the big stage\, this year it will be in the football field next to Town Park.
URL:https://mamalinguamusic.com/event/mama-lingua-at-mountain-harvest-festival-paonia/
ATTACH;FMTTYPE=image/jpeg:https://mamalinguamusic.com/wp-content/uploads/2024/08/981A4526-B39F-4502-990D-126E777ADDB9.jpg
END:VEVENT
BEGIN:VEVENT
DTSTART;TZID=America/Denver:20241005T123000
DTEND;TZID=America/Denver:20241005T153000
DTSTAMP:20260420T232211
CREATED:20240915T024247Z
LAST-MODIFIED:20240915T024247Z
UID:855-1728131400-1728142200@mamalinguamusic.com
SUMMARY:Mama Lingua at Fall Festival in Mt. Crested Butte
DESCRIPTION:more details to follow \n 
URL:https://mamalinguamusic.com/event/mama-lingua-at-fall-festival-in-mt-crested-butte/
ATTACH;FMTTYPE=image/jpeg:https://mamalinguamusic.com/wp-content/uploads/2023/11/ml-mt-cb-insts-Copy.jpg
END:VEVENT
BEGIN:VEVENT
DTSTART;TZID=America/Denver:20241011T170000
DTEND;TZID=America/Denver:20241011T181500
DTSTAMP:20260420T232211
CREATED:20240915T024428Z
LAST-MODIFIED:20241010T185648Z
UID:848-1728666000-1728670500@mamalinguamusic.com
SUMMARY:Mama Lingua at Ciderfest at Big B's in Paonia\, CO
DESCRIPTION:Opening for Sun J. and a great weekend of music and fun!
URL:https://mamalinguamusic.com/event/mama-lingua-at-ciderfest-at-big-bs-in-paonia-co/
ATTACH;FMTTYPE=image/jpeg:https://mamalinguamusic.com/wp-content/uploads/2023/11/mama-lingua-pickin-Copy.jpg
END:VEVENT
BEGIN:VEVENT
DTSTART;TZID=America/Denver:20250301T100000
DTEND;TZID=America/Denver:20250301T120000
DTSTAMP:20260420T232211
CREATED:20241109T145529Z
LAST-MODIFIED:20241109T145529Z
UID:866-1740823200-1740830400@mamalinguamusic.com
SUMMARY:Mama Lingua on Creative Retreat
DESCRIPTION:We look forward to seeing you Spring of 2025! \nHave a great winter!
URL:https://mamalinguamusic.com/event/mama-lingua-on-creative-retreat/
ATTACH;FMTTYPE=image/jpeg:https://mamalinguamusic.com/wp-content/uploads/2024/11/IMG_8818-scaled.jpg
END:VEVENT
BEGIN:VEVENT
DTSTART;TZID=America/Denver:20250504T120000
DTEND;TZID=America/Denver:20250504T133000
DTSTAMP:20260420T232211
CREATED:20250319T204741Z
LAST-MODIFIED:20250319T205340Z
UID:880-1746360000-1746365400@mamalinguamusic.com
SUMMARY:Mama Lingua at Hest Fest at Big B's
DESCRIPTION:with Jeannette Carey on sousaphone\, saxophone\, and flute. \nFree show \nMore details and tickets
URL:https://mamalinguamusic.com/event/mama-lingua-at-hest-fest/
LOCATION:Big B’s\, 39126 HWY 133\, Hotchkiss\, CO\, United States
ATTACH;FMTTYPE=image/jpeg:https://mamalinguamusic.com/wp-content/uploads/2024/11/IMG_1362.jpg
END:VEVENT
BEGIN:VEVENT
DTSTART;TZID=America/Denver:20250525T140000
DTEND;TZID=America/Denver:20250525T153000
DTSTAMP:20260420T232211
CREATED:20250319T205106Z
LAST-MODIFIED:20250319T205656Z
UID:884-1748181600-1748187000@mamalinguamusic.com
SUMMARY:Mama Lingua at Folk N Roots Rendezvous at Big B's
DESCRIPTION:Opening up the summer! \nmore info \nview event on Facebook
URL:https://mamalinguamusic.com/event/mama-lingua-at-folk-n-roots-rendezvous-at-big-bs/
LOCATION:Big B’s\, 39126 HWY 133\, Hotchkiss\, CO\, United States
ATTACH;FMTTYPE=image/jpeg:https://mamalinguamusic.com/wp-content/uploads/2024/11/IMG_8818-scaled.jpg
END:VEVENT
BEGIN:VEVENT
DTSTART;TZID=America/Denver:20250706T180000
DTEND;TZID=America/Denver:20250706T200000
DTSTAMP:20260420T232211
CREATED:20250319T205220Z
LAST-MODIFIED:20250608T220733Z
UID:886-1751824800-1751832000@mamalinguamusic.com
SUMMARY:Mama Lingua at Stanton Lavender Farm in Paonia\, CO
DESCRIPTION:We’re so looking forward to this intimate outdoor concert. \nGet your tickets\, it sold out last year: https://stantonentertainment.ticketspice.com/mama-lingua-stanton-farms–the-storm-cellar \n 
URL:https://mamalinguamusic.com/event/mama-lingua-at-stanton-lavender-farm-in-paonia-co/
LOCATION:Stanton Lavender Farm\, 41586 REDS ROAD\, Paonia\, CO\, United States
ATTACH;FMTTYPE=image/jpeg:https://mamalinguamusic.com/wp-content/uploads/2023/11/ml-lavender-Copy.jpg
END:VEVENT
BEGIN:VEVENT
DTSTART;TZID=America/Denver:20250710T180000
DTEND;TZID=America/Denver:20250710T190000
DTSTAMP:20260420T232211
CREATED:20250515T014348Z
LAST-MODIFIED:20250515T014348Z
UID:897-1752170400-1752174000@mamalinguamusic.com
SUMMARY:Mama Lingua in Ridgway\, CO
DESCRIPTION:As part of the Ridgway Concert Series with special guest Jeannette Carey. \nOpening for the Dan Tyminski Band
URL:https://mamalinguamusic.com/event/mama-lingua-in-ridgway-co/
ATTACH;FMTTYPE=image/jpeg:https://mamalinguamusic.com/wp-content/uploads/2025/05/5-piece.jpg
END:VEVENT
BEGIN:VEVENT
DTSTART;TZID=America/Denver:20250723T173000
DTEND;TZID=America/Denver:20250723T183000
DTSTAMP:20260420T232211
CREATED:20250515T014700Z
LAST-MODIFIED:20250515T014830Z
UID:903-1753291800-1753295400@mamalinguamusic.com
SUMMARY:Mama Lingua in Basalt\, CO
DESCRIPTION:as part of the Basalt Summer Concert Series \nmore info
URL:https://mamalinguamusic.com/event/mama-lingua-in-basalt-co/
ATTACH;FMTTYPE=image/jpeg:https://mamalinguamusic.com/wp-content/uploads/2024/11/bathtub-ml.jpg
END:VEVENT
BEGIN:VEVENT
DTSTART;TZID=America/Denver:20250725T180000
DTEND;TZID=America/Denver:20250725T200000
DTSTAMP:20260420T232211
CREATED:20250515T014522Z
LAST-MODIFIED:20250515T014522Z
UID:901-1753466400-1753473600@mamalinguamusic.com
SUMMARY:Mama Lingua in Cedaredge\, CO
DESCRIPTION:As part of the Grand Mesa Arts and Events Summer Concerts \nMore info: https://www.gmaec.org/event-details/mama-lingua-1
URL:https://mamalinguamusic.com/event/mama-lingua-in-cedaredge-co/
ATTACH;FMTTYPE=image/jpeg:https://mamalinguamusic.com/wp-content/uploads/2024/08/981A4526-B39F-4502-990D-126E777ADDB9.jpg
END:VEVENT
BEGIN:VEVENT
DTSTART;TZID=America/Denver:20250928T153000
DTEND;TZID=America/Denver:20250928T170000
DTSTAMP:20260420T232211
CREATED:20250810T135222Z
LAST-MODIFIED:20250810T135222Z
UID:919-1759073400-1759078800@mamalinguamusic.com
SUMMARY:Mama Lingua at Mountain Harvest Festival in Paonia\, CO
DESCRIPTION:We’re looking forward to this late afternoon set on Sunday of the Mountain Harvest Festival. \nWith Chloe Watkins\, Sami Akert\, Jeannette Carey and Arlyn Alderdice \nFull schedule here
URL:https://mamalinguamusic.com/event/mama-lingua-at-mountain-harvest-festival-in-paonia-co/
LOCATION:Paonia Town Park\, 700 4th Street\, Paonia\, Colorado\, 81428
ATTACH;FMTTYPE=image/jpeg:https://mamalinguamusic.com/wp-content/uploads/2025/08/Web-Mama-Lingua-2025-MHF.jpg
END:VEVENT
BEGIN:VEVENT
DTSTART;TZID=America/Denver:20251004T120000
DTEND;TZID=America/Denver:20251004T160000
DTSTAMP:20260420T232211
CREATED:20250810T135800Z
LAST-MODIFIED:20250810T135800Z
UID:923-1759579200-1759593600@mamalinguamusic.com
SUMMARY:Mama Lingua at Fall Festival Mt. Crested Butte\, CO
DESCRIPTION:We’re looking forward to an afternoon on the lawn in one of the most beautiful places we get to play. \nWith Chloe Watkins\, Sami Akert\, Chelsie Taylor and Arlyn Alderdice \nMore details \n 
URL:https://mamalinguamusic.com/event/mama-lingua-at-fall-festival-mt-crested-butte-co/
LOCATION:Ted Scheske Park & Pavilion (911 Gothic Rd)\, 911 Gothic Road\, Mt Crested Butte\, CO\, United States
ATTACH;FMTTYPE=image/jpeg:https://mamalinguamusic.com/wp-content/uploads/2024/04/Mama-Lingua.jpg
END:VEVENT
BEGIN:VEVENT
DTSTART;TZID=America/Denver:20251105T080000
DTEND;TZID=America/Denver:20251105T170000
DTSTAMP:20260420T232211
CREATED:20251021T165315Z
LAST-MODIFIED:20251021T165957Z
UID:952-1762329600-1762362000@mamalinguamusic.com
SUMMARY:Lay it All Down Album Release
DESCRIPTION:We are so happy to share this music with you! Check it out now at Bandcamp: https://mamalingua.bandcamp.com/album/lay-it-all-down \nWill release on all the digital platforms on November 5th. \nJoin our newsletter to find out how to get a physical CD.
URL:https://mamalinguamusic.com/event/lay-it-all-down-album-release/
ATTACH;FMTTYPE=image/jpeg:https://mamalinguamusic.com/wp-content/uploads/2025/10/COVER.jpg
END:VEVENT
BEGIN:VEVENT
DTSTART;TZID=America/Denver:20260214T190000
DTEND;TZID=America/Denver:20260214T210000
DTSTAMP:20260420T232211
CREATED:20251212T231844Z
LAST-MODIFIED:20251212T231844Z
UID:959-1771095600-1771102800@mamalinguamusic.com
SUMMARY:Mama Lingua Valentine's Show at Grand Mesa Arts and Events Center
DESCRIPTION:Buy Tickets \n\n\n\nFeb 14\, 2026\, 7:00 PM – 9:00 PM \nGrand Mesa Arts & Events Center\, 195 W Main St\, Cedaredge\, CO 81413\, USA \n\n\n\n\nAbout the Event\n\n\n\nPlease note that there are NO REFUNDS on ticket purchases. \nTickets are transferrable.  If you choose to transfer your tickets\, please either contact GMAEC with the name of the guests you are transferring your ticket(s) to or inform your guest(s) that they will need to bring the physical ticket and check in under your name. \n \nThis event is table seating only.  There will be tables for 2\, tables for 4\, and tables for individual tickets.  \nPrice listed is per ticket. Please choose table preference. Individual tickets may be purchased at certain tables only. Tables for 2 or 4 must reserve the full table. \n \nTables will include light hors d’ouvres and one bottle of wine per couple/two people. \nIndividual ticket holders will be seated at a table of 6.
URL:https://mamalinguamusic.com/event/mama-lingua-valentines/
LOCATION:Grand Mesa Arts and Events Center\, 195 W. Main Street\, Cedaredge\, CO\, United States
ATTACH;FMTTYPE=image/jpeg:https://mamalinguamusic.com/wp-content/uploads/2025/12/Mama-Lingua-Valentine-2026-scaled.jpg
END:VEVENT
BEGIN:VEVENT
DTSTART;TZID=America/Denver:20260501T180000
DTEND;TZID=America/Denver:20260501T193000
DTSTAMP:20260420T232211
CREATED:20260304T181553Z
LAST-MODIFIED:20260304T181553Z
UID:969-1777658400-1777663800@mamalinguamusic.com
SUMMARY:Mama Lingua at Hestival in Paonia\, CO
DESCRIPTION:6pm at Big B’s \nopening for the Jeremy Garrett Bluegrass Band featuring Kyle Tuttle \n  \nFriday’s night show is free to the public\, but reserving a free ticket online is encouraged: https://hestival.ticketspice.com/hestival-2026
URL:https://mamalinguamusic.com/event/mama-lingua-at-hestival-in-paonia-co/
LOCATION:Big B’s\, 39126 HWY 133\, Hotchkiss\, CO\, United States
ATTACH;FMTTYPE=image/jpeg:https://mamalinguamusic.com/wp-content/uploads/2026/03/IMG_20260214_185156920_HDR2-1-scaled.jpg
END:VEVENT
BEGIN:VEVENT
DTSTART;TZID=America/Denver:20260524T120000
DTEND;TZID=America/Denver:20260524T133000
DTSTAMP:20260420T232211
CREATED:20260316T192526Z
LAST-MODIFIED:20260316T192526Z
UID:973-1779624000-1779629400@mamalinguamusic.com
SUMMARY:Mama Lingua at Folk N Roots Rendesvous
DESCRIPTION:a sweet afternoon of melodies
URL:https://mamalinguamusic.com/event/mama-lingua-at-folk-n-roots-rendesvous/
ATTACH;FMTTYPE=image/png:https://mamalinguamusic.com/wp-content/uploads/2026/03/Mama-Linuga.png
END:VEVENT
BEGIN:VEVENT
DTSTART;TZID=America/Denver:20260712T170000
DTEND;TZID=America/Denver:20260712T200000
DTSTAMP:20260420T232211
CREATED:20260316T195230Z
LAST-MODIFIED:20260316T195230Z
UID:977-1783875600-1783886400@mamalinguamusic.com
SUMMARY:Mama Lingua at Stanton Lavender Farm
DESCRIPTION:save the date: July 12th. More details coming soon.
URL:https://mamalinguamusic.com/event/mama-lingua-at-stanton-lavender-farm-2/
ATTACH;FMTTYPE=image/png:https://mamalinguamusic.com/wp-content/uploads/2026/03/Untitled-design-15.png
END:VEVENT
END:VCALENDAR