BEGIN:VCALENDAR
VERSION:2.0
PRODID:-//Mama Lingua Music - ECPv6.15.17.1//NONSGML v1.0//EN
CALSCALE:GREGORIAN
METHOD:PUBLISH
X-WR-CALNAME:Mama Lingua Music
X-ORIGINAL-URL:https://mamalinguamusic.com
X-WR-CALDESC:Events for Mama Lingua Music
REFRESH-INTERVAL;VALUE=DURATION:PT1H
X-Robots-Tag:noindex
X-PUBLISHED-TTL:PT1H
BEGIN:VTIMEZONE
TZID:America/Denver
BEGIN:DAYLIGHT
TZOFFSETFROM:-0700
TZOFFSETTO:-0600
TZNAME:MDT
DTSTART:20230312T090000
END:DAYLIGHT
BEGIN:STANDARD
TZOFFSETFROM:-0600
TZOFFSETTO:-0700
TZNAME:MST
DTSTART:20231105T080000
END:STANDARD
BEGIN:DAYLIGHT
TZOFFSETFROM:-0700
TZOFFSETTO:-0600
TZNAME:MDT
DTSTART:20240310T090000
END:DAYLIGHT
BEGIN:STANDARD
TZOFFSETFROM:-0600
TZOFFSETTO:-0700
TZNAME:MST
DTSTART:20241103T080000
END:STANDARD
BEGIN:DAYLIGHT
TZOFFSETFROM:-0700
TZOFFSETTO:-0600
TZNAME:MDT
DTSTART:20250309T090000
END:DAYLIGHT
BEGIN:STANDARD
TZOFFSETFROM:-0600
TZOFFSETTO:-0700
TZNAME:MST
DTSTART:20251102T080000
END:STANDARD
END:VTIMEZONE
BEGIN:VEVENT
DTSTART;TZID=America/Denver:20241005T123000
DTEND;TZID=America/Denver:20241005T153000
DTSTAMP:20260419T150350
CREATED:20240915T024247Z
LAST-MODIFIED:20240915T024247Z
UID:855-1728131400-1728142200@mamalinguamusic.com
SUMMARY:Mama Lingua at Fall Festival in Mt. Crested Butte
DESCRIPTION:more details to follow \n 
URL:https://mamalinguamusic.com/event/mama-lingua-at-fall-festival-in-mt-crested-butte/
ATTACH;FMTTYPE=image/jpeg:https://mamalinguamusic.com/wp-content/uploads/2023/11/ml-mt-cb-insts-Copy.jpg
END:VEVENT
BEGIN:VEVENT
DTSTART;TZID=America/Denver:20241011T170000
DTEND;TZID=America/Denver:20241011T181500
DTSTAMP:20260419T150350
CREATED:20240915T024428Z
LAST-MODIFIED:20241010T185648Z
UID:848-1728666000-1728670500@mamalinguamusic.com
SUMMARY:Mama Lingua at Ciderfest at Big B's in Paonia\, CO
DESCRIPTION:Opening for Sun J. and a great weekend of music and fun!
URL:https://mamalinguamusic.com/event/mama-lingua-at-ciderfest-at-big-bs-in-paonia-co/
ATTACH;FMTTYPE=image/jpeg:https://mamalinguamusic.com/wp-content/uploads/2023/11/mama-lingua-pickin-Copy.jpg
END:VEVENT
END:VCALENDAR