BEGIN:VCALENDAR
VERSION:2.0
PRODID:-//Mama Lingua Music - ECPv6.15.17.1//NONSGML v1.0//EN
CALSCALE:GREGORIAN
METHOD:PUBLISH
X-ORIGINAL-URL:https://mamalinguamusic.com
X-WR-CALDESC:Events for Mama Lingua Music
REFRESH-INTERVAL;VALUE=DURATION:PT1H
X-Robots-Tag:noindex
X-PUBLISHED-TTL:PT1H
BEGIN:VTIMEZONE
TZID:America/Denver
BEGIN:DAYLIGHT
TZOFFSETFROM:-0700
TZOFFSETTO:-0600
TZNAME:MDT
DTSTART:20240310T090000
END:DAYLIGHT
BEGIN:STANDARD
TZOFFSETFROM:-0600
TZOFFSETTO:-0700
TZNAME:MST
DTSTART:20241103T080000
END:STANDARD
BEGIN:DAYLIGHT
TZOFFSETFROM:-0700
TZOFFSETTO:-0600
TZNAME:MDT
DTSTART:20250309T090000
END:DAYLIGHT
BEGIN:STANDARD
TZOFFSETFROM:-0600
TZOFFSETTO:-0700
TZNAME:MST
DTSTART:20251102T080000
END:STANDARD
BEGIN:DAYLIGHT
TZOFFSETFROM:-0700
TZOFFSETTO:-0600
TZNAME:MDT
DTSTART:20260308T090000
END:DAYLIGHT
BEGIN:STANDARD
TZOFFSETFROM:-0600
TZOFFSETTO:-0700
TZNAME:MST
DTSTART:20261101T080000
END:STANDARD
END:VTIMEZONE
BEGIN:VEVENT
DTSTART;TZID=America/Denver:20250928T153000
DTEND;TZID=America/Denver:20250928T170000
DTSTAMP:20260419T152223
CREATED:20250810T135222Z
LAST-MODIFIED:20250810T135222Z
UID:919-1759073400-1759078800@mamalinguamusic.com
SUMMARY:Mama Lingua at Mountain Harvest Festival in Paonia\, CO
DESCRIPTION:We’re looking forward to this late afternoon set on Sunday of the Mountain Harvest Festival. \nWith Chloe Watkins\, Sami Akert\, Jeannette Carey and Arlyn Alderdice \nFull schedule here
URL:https://mamalinguamusic.com/event/mama-lingua-at-mountain-harvest-festival-in-paonia-co/
LOCATION:Paonia Town Park\, 700 4th Street\, Paonia\, Colorado\, 81428
ATTACH;FMTTYPE=image/jpeg:https://mamalinguamusic.com/wp-content/uploads/2025/08/Web-Mama-Lingua-2025-MHF.jpg
END:VEVENT
END:VCALENDAR